BEGIN:VCALENDAR
VERSION:2.0
PRODID:-//Lebuinus - ECPv6.15.18//NONSGML v1.0//EN
CALSCALE:GREGORIAN
METHOD:PUBLISH
X-ORIGINAL-URL:https://liafwin.deskdomain.nl
X-WR-CALDESC:Evenementen voor Lebuinus
REFRESH-INTERVAL;VALUE=DURATION:PT1H
X-Robots-Tag:noindex
X-PUBLISHED-TTL:PT1H
BEGIN:VTIMEZONE
TZID:Europe/Amsterdam
BEGIN:DAYLIGHT
TZOFFSETFROM:+0100
TZOFFSETTO:+0200
TZNAME:CEST
DTSTART:20160327T010000
END:DAYLIGHT
BEGIN:STANDARD
TZOFFSETFROM:+0200
TZOFFSETTO:+0100
TZNAME:CET
DTSTART:20161030T010000
END:STANDARD
BEGIN:DAYLIGHT
TZOFFSETFROM:+0100
TZOFFSETTO:+0200
TZNAME:CEST
DTSTART:20170326T010000
END:DAYLIGHT
BEGIN:STANDARD
TZOFFSETFROM:+0200
TZOFFSETTO:+0100
TZNAME:CET
DTSTART:20171029T010000
END:STANDARD
BEGIN:DAYLIGHT
TZOFFSETFROM:+0100
TZOFFSETTO:+0200
TZNAME:CEST
DTSTART:20180325T010000
END:DAYLIGHT
BEGIN:STANDARD
TZOFFSETFROM:+0200
TZOFFSETTO:+0100
TZNAME:CET
DTSTART:20181028T010000
END:STANDARD
END:VTIMEZONE
BEGIN:VTIMEZONE
TZID:Atlantic/Azores
BEGIN:DAYLIGHT
TZOFFSETFROM:-0100
TZOFFSETTO:+0000
TZNAME:+00
DTSTART:20160327T010000
END:DAYLIGHT
BEGIN:STANDARD
TZOFFSETFROM:+0000
TZOFFSETTO:-0100
TZNAME:-01
DTSTART:20161030T010000
END:STANDARD
BEGIN:DAYLIGHT
TZOFFSETFROM:-0100
TZOFFSETTO:+0000
TZNAME:+00
DTSTART:20170326T010000
END:DAYLIGHT
BEGIN:STANDARD
TZOFFSETFROM:+0000
TZOFFSETTO:-0100
TZNAME:-01
DTSTART:20171029T010000
END:STANDARD
BEGIN:DAYLIGHT
TZOFFSETFROM:-0100
TZOFFSETTO:+0000
TZNAME:+00
DTSTART:20180325T010000
END:DAYLIGHT
BEGIN:STANDARD
TZOFFSETFROM:+0000
TZOFFSETTO:-0100
TZNAME:-01
DTSTART:20181028T010000
END:STANDARD
END:VTIMEZONE
BEGIN:VEVENT
DTSTART;TZID=Europe/Amsterdam:20170903T100000
DTEND;TZID=Europe/Amsterdam:20170903T110000
DTSTAMP:20260420T034206
CREATED:20170828T090810Z
LAST-MODIFIED:20170902T211759Z
UID:26920-1504432800-1504436400@liafwin.deskdomain.nl
SUMMARY:Viering Lebuinuskerk
DESCRIPTION:12e zondag na Trinitatis \nVoorganger: ds. Han Marsman \nAfscheidsdienst van ds. Han Marsman \nEerste collecte: Exodus\, tweede collecte: missionair werk en kerkgroei. \nOp 1 augustus jl. ging Han Marsman\, als docent levensbeschouwing met pensioen (zie pag. 10 Wervel september). In deze dienst neemt hij (ambtelijk) afscheid van de Protestantse Gemeente Deventer. Na de dienst is er gelegenheid hem de hand te drukken.
URL:https://liafwin.deskdomain.nl/event/viering-lebuinuskerk/
LOCATION:Grote of Lebuinuskerk\, Deventer\, 7411KV\, Netherlands
CATEGORIES:Vespers En Vieringen
END:VEVENT
BEGIN:VEVENT
DTSTART;TZID=Atlantic/Azores:20170827T100000
DTEND;TZID=Atlantic/Azores:20170827T110000
DTSTAMP:20260420T034206
CREATED:20170707T135036Z
LAST-MODIFIED:20170707T135130Z
UID:25912-1503828000-1503831600@liafwin.deskdomain.nl
SUMMARY:Viering in de Lebuinuskerk
DESCRIPTION:Voorganger: ds. Ingrid de Zwart\nDaniël 3\, I Korintiërs 15: 1-10\, Lucas 18: 9-14.\nCollectes: 1e collecte: Diaconie en 2e collecte: kerkenwerk.\nJe geloof belijden\, hoe doe je dat? Wanneer is dat nodig? Soms zijn er crisissituaties waarin het er op aan komt voor wie je buigt en wie je gehoorzaamt. Zo’n situatie is er voor de joodse man Daniel aan het hof van de Babylonische koning. Ook Paulus die vele eeuwen later leefde kent zo’n situatie. Heel anders is het met de farizeeër\, die weliswaar al biddend laat zien\, dat hij een gelovig mens is\, maar zich daar meteen ook erg op voor laat staan. En dat heeft nu juist niets meer met je geloof belijden te maken. Belijden vraagt om bescheidenheid.\nNa de dienst is er gelegenheid tot ontmoeting in de kooromgang. Er is koffie\, thee en limonade.
URL:https://liafwin.deskdomain.nl/event/viering-in-de-lebuinuskerk-8/
LOCATION:Grote of Lebuinuskerk\, Deventer\, 7411KV\, Netherlands
CATEGORIES:Vespers En Vieringen
END:VEVENT
BEGIN:VEVENT
DTSTART;TZID=Atlantic/Azores:20170820T100000
DTEND;TZID=Atlantic/Azores:20170820T110000
DTSTAMP:20260420T034206
CREATED:20170707T135036Z
LAST-MODIFIED:20170707T135130Z
UID:25911-1503223200-1503226800@liafwin.deskdomain.nl
SUMMARY:Viering in de Lebuinuskerk
DESCRIPTION:Voorganger: ds. Saar Hoogendijk\nJeremia 23: 16-29\, 1 Korintiërs 12: 1-11\, Lucas 19: 41-48.\nCollectes: 1e collecte: Roosevelthuis en 2e collecte: kerkenwerk.\nValse profeten met hun hoop\, het is van alle tijden. Zo ook de zoektocht naar wat dan echt en wat vals is. Jeremia heeft er heel wat mee te stellen. Jezus komt in actie tegen de handelaars in de tempel. In de gemeente in Korinte speelt de vraag: wat kan vrede brengen? Een vraag die ook ons op de lippen brandt.\nNa de dienst is er gelegenheid tot ontmoeting in de kooromgang. Er is koffie\, thee en limonade.
URL:https://liafwin.deskdomain.nl/event/viering-in-de-lebuinuskerk-7/
LOCATION:Grote of Lebuinuskerk\, Deventer\, 7411KV\, Netherlands
CATEGORIES:Vespers En Vieringen
END:VEVENT
BEGIN:VEVENT
DTSTART;TZID=Atlantic/Azores:20170813T100000
DTEND;TZID=Atlantic/Azores:20170813T110000
DTSTAMP:20260420T034206
CREATED:20170707T135036Z
LAST-MODIFIED:20170707T135130Z
UID:25910-1502618400-1502622000@liafwin.deskdomain.nl
SUMMARY:Viering in de Lebuinuskerk
DESCRIPTION:Voorganger: ds. Hermien Gunther-van Dijk\nJeremia 32: 37-42\, 1 Korintiërs 10: 1-13\, Lucas 16: 1-9.\nCollectes: 1e collecte: Cedepca en 2e collecte: kerkenwerk.\nIn een zwaar lot of oneerlijke daden zit de mogelijkheid van ommekeer\, zou je uit de lezingen van deze dag kunnen halen. Neem Jeremia: het volk van God is verdeeld geraakt\, grotendeels weggevoerd naar Babylon. Het wordt geduid als straf van God. Maar dan klinkt de belofte van God\, dat Hij het volk één van hart zal maken – om met alle verschillen van inzicht toch één te kunnen zijn. God geeft altijd met de beproeving ook een uitweg.\nNa de dienst is er gelegenheid tot ontmoeting in de kooromgang. Er is koffie\, thee en limonade.
URL:https://liafwin.deskdomain.nl/event/viering-in-de-lebuinuskerk-6/
LOCATION:Grote of Lebuinuskerk\, Deventer\, 7411KV\, Netherlands
CATEGORIES:Vespers En Vieringen
END:VEVENT
BEGIN:VEVENT
DTSTART;TZID=Atlantic/Azores:20170806T100000
DTEND;TZID=Atlantic/Azores:20170806T110000
DTSTAMP:20260420T034206
CREATED:20170707T135036Z
LAST-MODIFIED:20170707T135130Z
UID:25909-1502013600-1502017200@liafwin.deskdomain.nl
SUMMARY:Viering in de Lebuinuskerk
DESCRIPTION:Voorganger: ds. Ingrid de Zwart\nViering rond het Boek der Boeken. Thema: Gods geheimschrift.\nCollectes: 1e collecte: Nederlandse Bijbelgenootschap en 2e collecte: kerkenwerk.\nDeze viering is voorbereid met het NBG. We staan dit jaar stil bij 500 jaar Reformatie. Luther stond destijds voor een vertaling van de Bijbel in de landstaal\, direct vanuit de grondtalen: het Hebreeuws (Oude Testament) en het Grieks (Nieuwe Testament). Vóór Luther werd de Bijbel\, als hij al in de landstaal werd vertaald\, vanuit een Latijnse vertaling vertaald. Om de oorspronkelijke taal van de Bijbel te belichten nodigden we voor deze viering de musicus Lija Hirsch uit. Zij is gespecialiseerd in het Hebreeuwse en Joodse/Jiddische lied. Daarnaast is zij docente aan het conservatorium in Zwolle. Het Jiddisch kreeg zij mee van haar grootvader en haar moeder\, afkomstig uit Warschau. De Jiddische muziek bestudeerde zij bij Chanah Milner en Ruth Rubin. Ook schrijft zij proza en poëzie. Samen met harpiste Gertru Pasveer en violist Peter de Leeuw werkt zij aan de dienst mee. Na de dienst is er tot 17.00 uur van alles te doen in de kerk. U leest daarover elders in deze Wervel meer.\nNa de dienst is er gelegenheid tot ontmoeting in de kooromgang. Er is koffie\, thee en limonade.
URL:https://liafwin.deskdomain.nl/event/viering-in-de-lebuinuskerk-5/
LOCATION:Grote of Lebuinuskerk\, Deventer\, 7411KV\, Netherlands
CATEGORIES:Vespers En Vieringen
END:VEVENT
BEGIN:VEVENT
DTSTART;TZID=Atlantic/Azores:20170730T100000
DTEND;TZID=Atlantic/Azores:20170730T110000
DTSTAMP:20260420T034206
CREATED:20170707T135002Z
LAST-MODIFIED:20170707T135002Z
UID:25906-1501408800-1501412400@liafwin.deskdomain.nl
SUMMARY:Viering in de Lebuinuskerk
DESCRIPTION:Voorganger: ds. Ruth v/d Waall-Schaeffer\nJeremia 3: 21-4\,2\, Romeinen 6: 19-23\, Marcus 8: 1-9\nCollectes: 1e collecte: Caravan en 2e collecte: kerkenwerk.\nOp deze zondag gaat ds. Ruth v.d. Waall-Schaeffer voor. Voor velen een oude bekende. Samen met haar man Hein Schaeffer woonde zij een tijd in Deventer. Hein Schaeffer was toen predikant in de Lebuinuskerk. In 2002 ging hij met emeritaat en Hein en Ruth vestigden zich met hun gezin in Frankrijk. In 2007 overleed Hein daar\, Ruth bleef er wonen. Het is fijn dat zij op deze zondag weer eens voor kan gaan in onze kerk tijdens een verblijf in Nederland.\nNa de dienst is er gelegenheid tot ontmoeting in de kooromgang. Er is koffie\, thee en limonade.
URL:https://liafwin.deskdomain.nl/event/viering-in-de-lebuinuskerk-4/
LOCATION:Grote of Lebuinuskerk\, Deventer\, 7411KV\, Netherlands
CATEGORIES:Vespers En Vieringen
END:VEVENT
BEGIN:VEVENT
DTSTART;TZID=Europe/Amsterdam:20170723T100000
DTEND;TZID=Europe/Amsterdam:20170723T110000
DTSTAMP:20260420T034206
CREATED:20170719T121207Z
LAST-MODIFIED:20170719T121236Z
UID:26350-1500804000-1500807600@liafwin.deskdomain.nl
SUMMARY:Kantorei St. Michael uit Hamburg
DESCRIPTION:Dienst met de Kantorei St. Michael uit Hamburg in het kader van het Luther jubileumjaar. Hartelijk welkom. De viering begint om 10.00 uur.
URL:https://liafwin.deskdomain.nl/event/kantorei-st-michael-uit-hamburg/
CATEGORIES:Concert Overig,Reformatie 500,Vespers En Vieringen
END:VEVENT
BEGIN:VEVENT
DTSTART;TZID=Atlantic/Azores:20170723T100000
DTEND;TZID=Atlantic/Azores:20170723T110000
DTSTAMP:20260420T034206
CREATED:20170707T135002Z
LAST-MODIFIED:20170707T135002Z
UID:25905-1500804000-1500807600@liafwin.deskdomain.nl
SUMMARY:Viering in de Lebuinuskerk
DESCRIPTION:Voorganger: ds. Ingrid de Zwart\nJesaja 48: 12-22\, Romeinen 6: 3-11\, Matteüs 5: 20-26.\nCollectes: 1e collecte: Voedselbank Deventer en 2e collecte: kerkenwerk.\nIn deze viering zal de Jeugdcantorij van de St. Michaelis Kirche uit Hamburg meezingen\, als alles volgens plan verloopt. In de lezing uit Matteüs vertelt Jezus hoe hij het als zijn taak ziet de weg van de Tora en de Profeten te gaan. Hij is er niet op uit die af te schaffen\, maar om die geheel tot vervulling te brengen. Een belangrijke tekst om alle antisemitisme in de kerk tegen te gaan. Jezus was een joodse man. Wie dat vergeet komt op een verkeerd spoor terecht. Zonder de wet en de profeten valt hij niet te begrijpen.\nNa de dienst is er gelegenheid tot ontmoeting in de kooromgang. Er is koffie\, thee en limonade.
URL:https://liafwin.deskdomain.nl/event/viering-in-de-lebuinuskerk-3/
LOCATION:Grote of Lebuinuskerk\, Deventer\, 7411KV\, Netherlands
CATEGORIES:Vespers En Vieringen
END:VEVENT
BEGIN:VEVENT
DTSTART;TZID=Atlantic/Azores:20170716T100000
DTEND;TZID=Atlantic/Azores:20170716T110000
DTSTAMP:20260420T034206
CREATED:20170707T135001Z
LAST-MODIFIED:20170707T135001Z
UID:25902-1500199200-1500202800@liafwin.deskdomain.nl
SUMMARY:Viering in de Lebuinuskerk
DESCRIPTION:Voorgangers: ds. Ingrid de Zwart en ds. Saar Hoogendijk\nHeilig Avondmaal\nJeremia 15: 15-21\, 1 Petrus 3: 8-15a\, Lucas 5\, 1-11.\nCollectes: 1e collecte: ’t Zwervel \, 2e collecte: kerkenwerk en 3e collecte: Miriyawalé.\nHet verhaal over de wonderbare visvangst bij Lucas is een jaar lang meegegaan met de kerkenraad: iedere vergadering werd ermee geopend. Een bepaalde methode (‘dwelling in the Word’) hielp om te ontdekken wat ieder op dat moment raakte\, wat belangrijk werd. Eerst denk je: iedere keer hetzelfde… maar het bleek juist iedere keer anders te zijn\, omdat wij zelf op een ander moment\, in een andere situatie verkeerden.\nIn deze dienst gaan beide predikanten voor; de één terug van vakantie\, de ander al bijna ingepakt.\nNa de dienst is er gelegenheid tot ontmoeting in de kooromgang. Er is koffie\, thee en limonade.
URL:https://liafwin.deskdomain.nl/event/viering-in-de-lebuinuskerk-2/
LOCATION:Grote of Lebuinuskerk\, Deventer\, 7411KV\, Netherlands
CATEGORIES:Vespers En Vieringen
END:VEVENT
BEGIN:VEVENT
DTSTART;TZID=Atlantic/Azores:20170709T100000
DTEND;TZID=Atlantic/Azores:20170709T110000
DTSTAMP:20260420T034206
CREATED:20170707T135001Z
LAST-MODIFIED:20170707T135001Z
UID:25900-1499594400-1499598000@liafwin.deskdomain.nl
SUMMARY:Viering in de Lebuinuskerk
DESCRIPTION:Voorganger: ds. Matthias Kaljouw\nJeremia 17: 5-26\, Romeinen 8: 18-23\, Lucas 6: 36-42.\nCollectes: 1e collecte: Meester Geertshuis en 2e collecte: kerkenwerk.\nIn de lezingen van het Luthers leesrooster voor deze zondag zijn we op zoek naar een antwoord op de vraag: op wie moeten wij hopen\, bij wie moeten wij onze steun zoeken? Bij Vader\, Zoon en Geest natuurlijk. maar waarom? Wat is de meerwaarde van de Heer tegenover andere goden en machten?\nNa de dienst is er gelegenheid tot ontmoeting in de kooromgang. Er is koffie\, thee en limonade.
URL:https://liafwin.deskdomain.nl/event/viering-in-de-lebuinuskerk/
LOCATION:Grote of Lebuinuskerk\, Deventer\, 7411KV\, Netherlands
CATEGORIES:Vespers En Vieringen
END:VEVENT
END:VCALENDAR