BEGIN:VCALENDAR
VERSION:2.0
PRODID:-//Lebuinus - ECPv6.15.18//NONSGML v1.0//EN
CALSCALE:GREGORIAN
METHOD:PUBLISH
X-ORIGINAL-URL:https://liafwin.deskdomain.nl
X-WR-CALDESC:Evenementen voor Lebuinus
REFRESH-INTERVAL;VALUE=DURATION:PT1H
X-Robots-Tag:noindex
X-PUBLISHED-TTL:PT1H
BEGIN:VTIMEZONE
TZID:Atlantic/Azores
BEGIN:DAYLIGHT
TZOFFSETFROM:-0100
TZOFFSETTO:+0000
TZNAME:+00
DTSTART:20160327T010000
END:DAYLIGHT
BEGIN:STANDARD
TZOFFSETFROM:+0000
TZOFFSETTO:-0100
TZNAME:-01
DTSTART:20161030T010000
END:STANDARD
BEGIN:DAYLIGHT
TZOFFSETFROM:-0100
TZOFFSETTO:+0000
TZNAME:+00
DTSTART:20170326T010000
END:DAYLIGHT
BEGIN:STANDARD
TZOFFSETFROM:+0000
TZOFFSETTO:-0100
TZNAME:-01
DTSTART:20171029T010000
END:STANDARD
BEGIN:DAYLIGHT
TZOFFSETFROM:-0100
TZOFFSETTO:+0000
TZNAME:+00
DTSTART:20180325T010000
END:DAYLIGHT
BEGIN:STANDARD
TZOFFSETFROM:+0000
TZOFFSETTO:-0100
TZNAME:-01
DTSTART:20181028T010000
END:STANDARD
END:VTIMEZONE
BEGIN:VTIMEZONE
TZID:Europe/Amsterdam
BEGIN:DAYLIGHT
TZOFFSETFROM:+0100
TZOFFSETTO:+0200
TZNAME:CEST
DTSTART:20160327T010000
END:DAYLIGHT
BEGIN:STANDARD
TZOFFSETFROM:+0200
TZOFFSETTO:+0100
TZNAME:CET
DTSTART:20161030T010000
END:STANDARD
BEGIN:DAYLIGHT
TZOFFSETFROM:+0100
TZOFFSETTO:+0200
TZNAME:CEST
DTSTART:20170326T010000
END:DAYLIGHT
BEGIN:STANDARD
TZOFFSETFROM:+0200
TZOFFSETTO:+0100
TZNAME:CET
DTSTART:20171029T010000
END:STANDARD
BEGIN:DAYLIGHT
TZOFFSETFROM:+0100
TZOFFSETTO:+0200
TZNAME:CEST
DTSTART:20180325T010000
END:DAYLIGHT
BEGIN:STANDARD
TZOFFSETFROM:+0200
TZOFFSETTO:+0100
TZNAME:CET
DTSTART:20181028T010000
END:STANDARD
END:VTIMEZONE
BEGIN:VEVENT
DTSTART;TZID=Atlantic/Azores:20170722T150000
DTEND;TZID=Atlantic/Azores:20170722T160000
DTSTAMP:20260420T032833
CREATED:20170707T135001Z
LAST-MODIFIED:20170707T135001Z
UID:25904-1500735600-1500739200@liafwin.deskdomain.nl
SUMMARY:Torenbeklimming met rondleiding
DESCRIPTION:Tijdens de IJsselbiennale en Deventer op Stelten zal Herman Koldewijn rondleidingen verzorgen. Voor 5 euro krijgt u een boeiende tocht door het gebouw en hoort u over de rijke geschiedenis van de Lebuinus aan de IJssel. Bovendien kunt u zich verheugen op het schitterende uitzicht vanaf de toren! U ontvangt ook een uitgebreide speciale brochure met interessante wetenswaardigheden.\nOp vrijdag 7 juli om half 12\nOp zaterdag 8 juli om half 12\nOp vrijdag 21 juli om half 2\nOp zaterdag 22 juli om drie uur
URL:https://liafwin.deskdomain.nl/event/torenbeklimming-met-rondleiding-3/
LOCATION:Grote of Lebuinuskerk\, Deventer\, 7411KV\, Netherlands
CATEGORIES:Rondleiding
END:VEVENT
BEGIN:VEVENT
DTSTART;TZID=Europe/Amsterdam:20170722T100000
DTEND;TZID=Europe/Amsterdam:20170722T160000
DTSTAMP:20260420T032833
CREATED:20170707T142344Z
LAST-MODIFIED:20170707T142344Z
UID:25931-1500717600-1500739200@liafwin.deskdomain.nl
SUMMARY:Open orgel dag
DESCRIPTION:Stichting Lebuinusconcerten Deventer organiseert jaarlijks een open orgeldag. Deze is op zaterdag 22 juli van 10:00 tot 16:00 uur. U wordt dan in de gelegenheid gesteld het Holtgräve-orgel zelf te bespelen gedurende 30 minuten. Eén van de eigen organisten is aanwezig om u wegwijs te maken op het orgel. Vorig jaar heeft Reil Orgelmakerij te Heerde de grootste prestanten gerestaureerd. Vanaf oktober 2017 worden andere onderdelen verbeterd. Dit gaat bijna een jaar in beslag nemen.\n\nDe kerk is verder ook open voor bezichtiging en de toren kan tegen betaling beklommen worden. De ingang van de kerk bevindt zich onder de toren op het Grote Kerkhof.
URL:https://liafwin.deskdomain.nl/event/open-orgel-dag/
CATEGORIES:Concert Overig,Lebuinusconcerten,Rondleiding
END:VEVENT
BEGIN:VEVENT
DTSTART;TZID=Atlantic/Azores:20170721T130000
DTEND;TZID=Atlantic/Azores:20170721T143000
DTSTAMP:20260420T032833
CREATED:20170707T135001Z
LAST-MODIFIED:20170707T135001Z
UID:25903-1500642000-1500647400@liafwin.deskdomain.nl
SUMMARY:Torenbeklimming en rondleiding
DESCRIPTION:Tijdens de IJsselbiennale en Deventer op Stelten zal Herman Koldewijn rondleidingen verzorgen. Voor 5 euro krijgt u een boeiende tocht door het gebouw en hoort u over de rijke geschiedenis van de Lebuinus aan de IJssel. Bovendien kunt u zich verheugen op het schitterende uitzicht vanaf de toren! U ontvangt ook een uitgebreide speciale brochure met interessante wetenswaardigheden.\nOp vrijdag 7 juli om half 12\nOp zaterdag 8 juli om half 12\nOp vrijdag 21 juli om half 2\nOp zaterdag 22 juli om drie uur
URL:https://liafwin.deskdomain.nl/event/torenbeklimming-en-rondleiding/
LOCATION:Grote of Lebuinuskerk\, Deventer\, 7411KV\, Netherlands
CATEGORIES:Rondleiding
END:VEVENT
BEGIN:VEVENT
DTSTART;TZID=Atlantic/Azores:20170708T113000
DTEND;TZID=Atlantic/Azores:20170708T123000
DTSTAMP:20260420T032833
CREATED:20170707T134959Z
LAST-MODIFIED:20170707T134959Z
UID:25898-1499513400-1499517000@liafwin.deskdomain.nl
SUMMARY:Torenbeklimming met rondleiding
DESCRIPTION:Tijdens de IJsselbiennale en Deventer op Stelten zal Herman Koldewijn rondleidingen verzorgen. Voor 5 euro krijgt u een boeiende tocht door het gebouw en hoort u over de rijke geschiedenis van de Lebuinus aan de IJssel. Bovendien kunt u zich verheugen op het schitterende uitzicht vanaf de toren! U ontvangt ook een uitgebreide speciale brochure met interessante wetenswaardigheden.\nOp vrijdag 7 juli om half 12\nOp zaterdag 8 juli om half 12\nOp vrijdag 21 juli om half 2\nOp zaterdag 22 juli om drie uur
URL:https://liafwin.deskdomain.nl/event/torenbeklimming-met-rondleiding-2/
LOCATION:Grote of Lebuinuskerk\, Deventer\, 7411KV\, Netherlands
CATEGORIES:Rondleiding
END:VEVENT
BEGIN:VEVENT
DTSTART;TZID=Atlantic/Azores:20170707T113000
DTEND;TZID=Atlantic/Azores:20170707T123000
DTSTAMP:20260420T032833
CREATED:20170707T134959Z
LAST-MODIFIED:20170707T134959Z
UID:25897-1499427000-1499430600@liafwin.deskdomain.nl
SUMMARY:Torenbeklimming met rondleiding
DESCRIPTION:Tijdens de IJsselbiennale en Deventer op Stelten zal Herman Koldewijn rondleidingen verzorgen. Voor 5 euro krijgt u een boeiende tocht door het gebouw en hoort u over de rijke geschiedenis van de Lebuinus aan de IJssel. Bovendien kunt u zich verheugen op het schitterende uitzicht vanaf de toren! U ontvangt ook een uitgebreide speciale brochure met interessante wetenswaardigheden.\nOp vrijdag 7 juli om half 12\nOp zaterdag 8 juli om half 12\nOp vrijdag 21 juli om half 2\nOp zaterdag 22 juli om drie uur
URL:https://liafwin.deskdomain.nl/event/torenbeklimming-met-rondleiding/
LOCATION:Grote of Lebuinuskerk\, Deventer\, 7411KV\, Netherlands
CATEGORIES:Rondleiding
END:VEVENT
END:VCALENDAR