BEGIN:VCALENDAR
VERSION:2.0
PRODID:-//Lebuinus - ECPv6.15.18//NONSGML v1.0//EN
CALSCALE:GREGORIAN
METHOD:PUBLISH
X-ORIGINAL-URL:https://liafwin.deskdomain.nl
X-WR-CALDESC:Evenementen voor Lebuinus
REFRESH-INTERVAL;VALUE=DURATION:PT1H
X-Robots-Tag:noindex
X-PUBLISHED-TTL:PT1H
BEGIN:VTIMEZONE
TZID:Europe/Amsterdam
BEGIN:DAYLIGHT
TZOFFSETFROM:+0100
TZOFFSETTO:+0200
TZNAME:CEST
DTSTART:20160327T010000
END:DAYLIGHT
BEGIN:STANDARD
TZOFFSETFROM:+0200
TZOFFSETTO:+0100
TZNAME:CET
DTSTART:20161030T010000
END:STANDARD
BEGIN:DAYLIGHT
TZOFFSETFROM:+0100
TZOFFSETTO:+0200
TZNAME:CEST
DTSTART:20170326T010000
END:DAYLIGHT
BEGIN:STANDARD
TZOFFSETFROM:+0200
TZOFFSETTO:+0100
TZNAME:CET
DTSTART:20171029T010000
END:STANDARD
BEGIN:DAYLIGHT
TZOFFSETFROM:+0100
TZOFFSETTO:+0200
TZNAME:CEST
DTSTART:20180325T010000
END:DAYLIGHT
BEGIN:STANDARD
TZOFFSETFROM:+0200
TZOFFSETTO:+0100
TZNAME:CET
DTSTART:20181028T010000
END:STANDARD
END:VTIMEZONE
BEGIN:VEVENT
DTSTART;TZID=Europe/Amsterdam:20170924T143000
DTEND;TZID=Europe/Amsterdam:20170924T173000
DTSTAMP:20260420T103003
CREATED:20170829T131248Z
LAST-MODIFIED:20170829T131252Z
UID:26951-1506263400-1506274200@liafwin.deskdomain.nl
SUMMARY:Kerkcafe en afscheid Nelleke Boonstra
DESCRIPTION:Om 14.30 uur: afscheid Nelleke Boonstra\, middaggebed.  \nAansluitend om 16.30 uur: Kerkcafé met Nelleke Boonstra als gast.  \nZie pag. 9 Wervel september.
URL:https://liafwin.deskdomain.nl/event/kerkcafe-en-afscheid-nelleke-boonstra/
CATEGORIES:Kerkcafé
END:VEVENT
END:VCALENDAR