BEGIN:VCALENDAR
VERSION:2.0
PRODID:-//Lebuinus - ECPv6.15.18//NONSGML v1.0//EN
CALSCALE:GREGORIAN
METHOD:PUBLISH
X-WR-CALNAME:Lebuinus
X-ORIGINAL-URL:https://liafwin.deskdomain.nl
X-WR-CALDESC:Evenementen voor Lebuinus
REFRESH-INTERVAL;VALUE=DURATION:PT1H
X-Robots-Tag:noindex
X-PUBLISHED-TTL:PT1H
BEGIN:VTIMEZONE
TZID:Europe/Amsterdam
BEGIN:DAYLIGHT
TZOFFSETFROM:+0100
TZOFFSETTO:+0200
TZNAME:CEST
DTSTART:20160327T010000
END:DAYLIGHT
BEGIN:STANDARD
TZOFFSETFROM:+0200
TZOFFSETTO:+0100
TZNAME:CET
DTSTART:20161030T010000
END:STANDARD
BEGIN:DAYLIGHT
TZOFFSETFROM:+0100
TZOFFSETTO:+0200
TZNAME:CEST
DTSTART:20170326T010000
END:DAYLIGHT
BEGIN:STANDARD
TZOFFSETFROM:+0200
TZOFFSETTO:+0100
TZNAME:CET
DTSTART:20171029T010000
END:STANDARD
BEGIN:DAYLIGHT
TZOFFSETFROM:+0100
TZOFFSETTO:+0200
TZNAME:CEST
DTSTART:20180325T010000
END:DAYLIGHT
BEGIN:STANDARD
TZOFFSETFROM:+0200
TZOFFSETTO:+0100
TZNAME:CET
DTSTART:20181028T010000
END:STANDARD
END:VTIMEZONE
BEGIN:VTIMEZONE
TZID:UTC
BEGIN:STANDARD
TZOFFSETFROM:+0000
TZOFFSETTO:+0000
TZNAME:UTC
DTSTART:20160101T000000
END:STANDARD
END:VTIMEZONE
BEGIN:VEVENT
DTSTART;TZID=Europe/Amsterdam:20170904T110000
DTEND;TZID=Europe/Amsterdam:20170924T170000
DTSTAMP:20260420T102954
CREATED:20170803T104941Z
LAST-MODIFIED:20170803T105026Z
UID:26702-1504522800-1506272400@liafwin.deskdomain.nl
SUMMARY:Biennale Moving Images Festival
DESCRIPTION:De expositie is van maandag tot en met zondag tussen 11.00 – 17.00 uur en zondagen van 12.00 – 16.00 uur.\nZie actueel bericht ‎
URL:https://liafwin.deskdomain.nl/event/biennale-moving-images-festival/
CATEGORIES:Expositie
END:VEVENT
BEGIN:VEVENT
DTSTART;VALUE=DATE:20170707
DTEND;VALUE=DATE:20170925
DTSTAMP:20260420T102954
CREATED:20170707T134959Z
LAST-MODIFIED:20170803T104646Z
UID:25895-1499385600-1506297599@liafwin.deskdomain.nl
SUMMARY:WELL Arent Weevers
DESCRIPTION:WELL\nARENT WEEVERS\nThe Netherlands\, 2017\, 4’11” (loop)\n3D stereoscopische installatie 23 juni – 24 september 2017 in de Crypte van de Grote of Lebuinuskerk\nDe 3D bril die u nodig heeft om het werk te bekijken kunt u lenen bij de info/shop voor in de kerk.\nUit de donkere diepte van een eeuwenoude\, stenen waterput komt langzaam een klein kind tevoorschijn. Hij verdwijnt\, komt weer boven\, zweeft als een “living sculpture” langs de rand\, boven de put. Om daarna weer in de oneindige diepte te verdwijnen.\nDe 3D stereoscopische installatie WELL is door Arent Weevers speciaal voor deze locatie gemaakt. Met het werk wil hij de historische en klimatologische verbondenheid tussen de waterput in crypte van de Grote of Lebuinuskerk te Deventer en de IJssel bloot leggen. Als heilige plaats\, als fundament van de kerk en als noodrantsoen tijdens belegering van de stad. Bij hoogwater van de IJssel kan de crypte onder water lopen.\nDe “waterput” heeft het paradoxale karakter in zich dat leven neemt en geeft\, zowel in lichamelijk als geestelijk opzicht.\nDe muziek is speciaal voor deze installatie door David Dramm gecomponeerd.\nArent Weevers is kunstenaar\, maar ook (studenten)predikant. Daarom is het niet verwonderlijk dat zijn werk is gericht op de relatie tussen nieuwe mediakunst en spiritualiteit. Zijn mediakunst is een zoektocht naar kracht in kwetsbaarheid en hij maakt gebruik van de 3D-technologie om ‘living sculptures’ te creëren.\nOp 10 december 2015 ontving hij met Josephine’s Well de ‘Special Mention Award’ door de internationale jury van het 3D Film & Music Festival 2015\, Barcelona\, Spanje.
URL:https://liafwin.deskdomain.nl/event/biennale-well-arent-weevers/
LOCATION:Grote of Lebuinuskerk\, Deventer\, 7411KV\, Netherlands
CATEGORIES:Expositie
END:VEVENT
END:VCALENDAR