BEGIN:VCALENDAR
VERSION:2.0
PRODID:-//Lebuinus - ECPv6.15.18//NONSGML v1.0//EN
CALSCALE:GREGORIAN
METHOD:PUBLISH
X-WR-CALNAME:Lebuinus
X-ORIGINAL-URL:https://liafwin.deskdomain.nl
X-WR-CALDESC:Evenementen voor Lebuinus
REFRESH-INTERVAL;VALUE=DURATION:PT1H
X-Robots-Tag:noindex
X-PUBLISHED-TTL:PT1H
BEGIN:VTIMEZONE
TZID:Europe/Amsterdam
BEGIN:DAYLIGHT
TZOFFSETFROM:+0100
TZOFFSETTO:+0200
TZNAME:CEST
DTSTART:20160327T010000
END:DAYLIGHT
BEGIN:STANDARD
TZOFFSETFROM:+0200
TZOFFSETTO:+0100
TZNAME:CET
DTSTART:20161030T010000
END:STANDARD
BEGIN:DAYLIGHT
TZOFFSETFROM:+0100
TZOFFSETTO:+0200
TZNAME:CEST
DTSTART:20170326T010000
END:DAYLIGHT
BEGIN:STANDARD
TZOFFSETFROM:+0200
TZOFFSETTO:+0100
TZNAME:CET
DTSTART:20171029T010000
END:STANDARD
BEGIN:DAYLIGHT
TZOFFSETFROM:+0100
TZOFFSETTO:+0200
TZNAME:CEST
DTSTART:20180325T010000
END:DAYLIGHT
BEGIN:STANDARD
TZOFFSETFROM:+0200
TZOFFSETTO:+0100
TZNAME:CET
DTSTART:20181028T010000
END:STANDARD
END:VTIMEZONE
BEGIN:VTIMEZONE
TZID:Atlantic/Azores
BEGIN:DAYLIGHT
TZOFFSETFROM:-0100
TZOFFSETTO:+0000
TZNAME:+00
DTSTART:20160327T010000
END:DAYLIGHT
BEGIN:STANDARD
TZOFFSETFROM:+0000
TZOFFSETTO:-0100
TZNAME:-01
DTSTART:20161030T010000
END:STANDARD
BEGIN:DAYLIGHT
TZOFFSETFROM:-0100
TZOFFSETTO:+0000
TZNAME:+00
DTSTART:20170326T010000
END:DAYLIGHT
BEGIN:STANDARD
TZOFFSETFROM:+0000
TZOFFSETTO:-0100
TZNAME:-01
DTSTART:20171029T010000
END:STANDARD
BEGIN:DAYLIGHT
TZOFFSETFROM:-0100
TZOFFSETTO:+0000
TZNAME:+00
DTSTART:20180325T010000
END:DAYLIGHT
BEGIN:STANDARD
TZOFFSETFROM:+0000
TZOFFSETTO:-0100
TZNAME:-01
DTSTART:20181028T010000
END:STANDARD
END:VTIMEZONE
BEGIN:VEVENT
DTSTART;TZID=Europe/Amsterdam:20171222T080000
DTEND;TZID=Europe/Amsterdam:20171222T170000
DTSTAMP:20260424T112435
CREATED:20170916T175228Z
LAST-MODIFIED:20170916T175339Z
UID:27029-1513929600-1513962000@liafwin.deskdomain.nl
SUMMARY:Mantelzorgdiner
DESCRIPTION:Mantelzorgdiner georganiseerd door Solis en IJsselandschap \n  \n750 jaar Solis én IJssellandschap \n 
URL:https://liafwin.deskdomain.nl/event/mantelzorgdiner/
CATEGORIES:Diner,Sel Activiteit
END:VEVENT
BEGIN:VEVENT
DTSTART;TZID=Atlantic/Azores:20170708T170000
DTEND;TZID=Atlantic/Azores:20170708T200000
DTSTAMP:20260424T112435
CREATED:20170707T134959Z
LAST-MODIFIED:20170707T134959Z
UID:25899-1499533200-1499544000@liafwin.deskdomain.nl
SUMMARY:Lebuinusbuffet
DESCRIPTION:ook dit jaar organiseren we weer op veler verzoek een Festivalbuffet . voor meer info en kaarten www.bieldermancatering.nl\nkom ook dineren in de Lebuinus !
URL:https://liafwin.deskdomain.nl/event/lebuinusbuffet/
LOCATION:Grote of Lebuinuskerk\, Deventer\, 7411KV\, Netherlands
CATEGORIES:Diner,Sel Activiteit
END:VEVENT
END:VCALENDAR