BEGIN:VCALENDAR
VERSION:2.0
PRODID:-//Lebuinus - ECPv6.15.18//NONSGML v1.0//EN
CALSCALE:GREGORIAN
METHOD:PUBLISH
X-WR-CALNAME:Lebuinus
X-ORIGINAL-URL:https://liafwin.deskdomain.nl
X-WR-CALDESC:Evenementen voor Lebuinus
REFRESH-INTERVAL;VALUE=DURATION:PT1H
X-Robots-Tag:noindex
X-PUBLISHED-TTL:PT1H
BEGIN:VTIMEZONE
TZID:Europe/Amsterdam
BEGIN:DAYLIGHT
TZOFFSETFROM:+0100
TZOFFSETTO:+0200
TZNAME:CEST
DTSTART:20160327T010000
END:DAYLIGHT
BEGIN:STANDARD
TZOFFSETFROM:+0200
TZOFFSETTO:+0100
TZNAME:CET
DTSTART:20161030T010000
END:STANDARD
BEGIN:DAYLIGHT
TZOFFSETFROM:+0100
TZOFFSETTO:+0200
TZNAME:CEST
DTSTART:20170326T010000
END:DAYLIGHT
BEGIN:STANDARD
TZOFFSETFROM:+0200
TZOFFSETTO:+0100
TZNAME:CET
DTSTART:20171029T010000
END:STANDARD
BEGIN:DAYLIGHT
TZOFFSETFROM:+0100
TZOFFSETTO:+0200
TZNAME:CEST
DTSTART:20180325T010000
END:DAYLIGHT
BEGIN:STANDARD
TZOFFSETFROM:+0200
TZOFFSETTO:+0100
TZNAME:CET
DTSTART:20181028T010000
END:STANDARD
END:VTIMEZONE
BEGIN:VEVENT
DTSTART;TZID=Europe/Amsterdam:20170916T150000
DTEND;TZID=Europe/Amsterdam:20170916T154500
DTSTAMP:20260420T063646
CREATED:20170829T130822Z
LAST-MODIFIED:20170829T130822Z
UID:26947-1505574000-1505576700@liafwin.deskdomain.nl
SUMMARY:Zaterdagmiddagconcert
DESCRIPTION:Orgelconcert Pieter van Dijk.\nZie pag. 19 van de Wervel of\nhttps://zaterdagmiddagconcertendeventer.nl/75-programma/2017/lebuinuskerk/314-16-september-2017 \nGratis entree\, suggestie voor vrije gift:\n5 euro per persoon minimaal.
URL:https://liafwin.deskdomain.nl/event/zaterdagmiddagconcert-2/
CATEGORIES:zaterdagmiddagconcerten
END:VEVENT
BEGIN:VEVENT
DTSTART;TZID=Europe/Amsterdam:20170902T150000
DTEND;TZID=Europe/Amsterdam:20170902T154500
DTSTAMP:20260420T063646
CREATED:20170829T131940Z
LAST-MODIFIED:20170829T132120Z
UID:26959-1504364400-1504367100@liafwin.deskdomain.nl
SUMMARY:Zaterdagmiddagconcert Broederenkerk
DESCRIPTION:Zaterdagmiddagconcert\, ensemble Gut Feelings\, Broederenkerk. Zie pag. 19 Wervel of\nhttps://zaterdagmiddagconcertendeventer.nl/74-programma/2017/broederenkerk/322-2-september-2017\nVrije gift. Suggestie: 5 euro p.p.
URL:https://liafwin.deskdomain.nl/event/zaterdagmiddagconcert-broederenkerk/
LOCATION:Broederenkerk\, Engestraat\, Deventer
CATEGORIES:zaterdagmiddagconcerten
END:VEVENT
END:VCALENDAR